Package: PREDA Version: 1.54.0 Command: /Library/Frameworks/R.framework/Resources/bin/R CMD check --install=check:PREDA.install-out.txt --library=/Library/Frameworks/R.framework/Resources/library --no-vignettes --timings PREDA_1.54.0.tar.gz StartedAt: 2025-10-03 08:17:51 -0400 (Fri, 03 Oct 2025) EndedAt: 2025-10-03 08:21:48 -0400 (Fri, 03 Oct 2025) EllapsedTime: 237.3 seconds RetCode: 0 Status: WARNINGS CheckDir: PREDA.Rcheck Warnings: 1