Package: PREDA Version: 1.54.0 Command: /home/biocbuild/R/R/bin/R CMD check --install=check:PREDA.install-out.txt --library=/home/biocbuild/R/R/site-library --no-vignettes --timings PREDA_1.54.0.tar.gz StartedAt: 2025-10-03 12:49:29 -0000 (Fri, 03 Oct 2025) EndedAt: 2025-10-03 12:52:00 -0000 (Fri, 03 Oct 2025) EllapsedTime: 151.1 seconds RetCode: 0 Status: WARNINGS CheckDir: PREDA.Rcheck Warnings: 1