Package: PREDA Version: 1.54.0 Command: /Library/Frameworks/R.framework/Resources/bin/R CMD check --install=check:PREDA.install-out.txt --library=/Library/Frameworks/R.framework/Resources/library --no-vignettes --timings PREDA_1.54.0.tar.gz StartedAt: 2025-04-21 20:59:17 -0400 (Mon, 21 Apr 2025) EndedAt: 2025-04-21 21:00:03 -0400 (Mon, 21 Apr 2025) EllapsedTime: 46.6 seconds RetCode: 0 Status: WARNINGS CheckDir: PREDA.Rcheck Warnings: 1