Package: PPInfer Version: 1.35.0 Command: /home/biocbuild/R/R/bin/R CMD INSTALL PPInfer StartedAt: 2025-10-23 20:54:06 -0000 (Thu, 23 Oct 2025) EndedAt: 2025-10-23 20:54:36 -0000 (Thu, 23 Oct 2025) EllapsedTime: 29.8 seconds RetCode: 0 Status: OK