Package: PPInfer Version: 1.36.0 Command: /home/biocbuild/bbs-3.22-bioc/R/bin/R CMD check --install=check:PPInfer.install-out.txt --library=/home/biocbuild/bbs-3.22-bioc/R/site-library --timings PPInfer_1.36.0.tar.gz StartedAt: 2025-11-07 02:47:11 -0500 (Fri, 07 Nov 2025) EndedAt: 2025-11-07 02:54:03 -0500 (Fri, 07 Nov 2025) EllapsedTime: 412.4 seconds RetCode: 0 Status: OK CheckDir: PPInfer.Rcheck Warnings: 0