Package: POWSC Version: 1.18.0 Command: /home/biocbuild/bbs-3.22-bioc/R/bin/R CMD INSTALL POWSC StartedAt: 2025-11-20 16:11:31 -0500 (Thu, 20 Nov 2025) EndedAt: 2025-11-20 16:12:05 -0500 (Thu, 20 Nov 2025) EllapsedTime: 33.3 seconds RetCode: 0 Status: OK