Package: POWSC Version: 1.18.0 Command: /home/biocbuild/bbs-3.22-bioc/R/bin/R CMD build --keep-empty-dirs --no-resave-data --md5 POWSC StartedAt: 2025-11-20 20:10:13 -0500 (Thu, 20 Nov 2025) EndedAt: 2025-11-20 20:11:32 -0500 (Thu, 20 Nov 2025) EllapsedTime: 79.1 seconds RetCode: 0 Status: OK PackageFile: POWSC_1.18.0.tar.gz PackageFileSize: 1.137 MiB