Package: POWSC Version: 1.16.0 Command: /Library/Frameworks/R.framework/Resources/bin/R CMD check --install=check:POWSC.install-out.txt --library=/Library/Frameworks/R.framework/Resources/library --no-vignettes --timings POWSC_1.16.0.tar.gz StartedAt: 2025-09-27 07:11:58 -0400 (Sat, 27 Sep 2025) EndedAt: 2025-09-27 07:16:54 -0400 (Sat, 27 Sep 2025) EllapsedTime: 296.3 seconds RetCode: 0 Status: OK CheckDir: POWSC.Rcheck Warnings: 0