Package: PLPE Version: 1.69.0 Command: /home/biocbuild/R/R/bin/R CMD INSTALL PLPE StartedAt: 2025-10-23 20:32:13 -0000 (Thu, 23 Oct 2025) EndedAt: 2025-10-23 20:32:18 -0000 (Thu, 23 Oct 2025) EllapsedTime: 5.0 seconds RetCode: 0 Status: OK