Package: PLPE Version: 1.70.0 Command: /home/biocbuild/bbs-3.22-bioc/R/bin/R CMD check --install=check:PLPE.install-out.txt --library=/home/biocbuild/bbs-3.22-bioc/R/site-library --timings PLPE_1.70.0.tar.gz StartedAt: 2025-11-10 02:57:19 -0500 (Mon, 10 Nov 2025) EndedAt: 2025-11-10 02:57:47 -0500 (Mon, 10 Nov 2025) EllapsedTime: 28.0 seconds RetCode: 0 Status: OK CheckDir: PLPE.Rcheck Warnings: 0