Package: PLPE Version: 1.68.0 Command: /Library/Frameworks/R.framework/Resources/bin/R CMD INSTALL PLPE StartedAt: 2025-09-29 15:21:57 -0400 (Mon, 29 Sep 2025) EndedAt: 2025-09-29 15:22:08 -0400 (Mon, 29 Sep 2025) EllapsedTime: 11.1 seconds RetCode: 0 Status: OK