Package: PLPE Version: 1.68.0 Command: /Library/Frameworks/R.framework/Resources/bin/R CMD check --install=check:PLPE.install-out.txt --library=/Library/Frameworks/R.framework/Resources/library --no-vignettes --timings PLPE_1.68.0.tar.gz StartedAt: 2025-09-30 08:06:31 -0400 (Tue, 30 Sep 2025) EndedAt: 2025-09-30 08:07:36 -0400 (Tue, 30 Sep 2025) EllapsedTime: 64.6 seconds RetCode: 0 Status: OK CheckDir: PLPE.Rcheck Warnings: 0