Package: PLPE Version: 1.70.0 Command: /Library/Frameworks/R.framework/Resources/bin/R CMD check --install=check:PLPE.install-out.txt --library=/Library/Frameworks/R.framework/Resources/library --no-vignettes --timings PLPE_1.70.0.tar.gz StartedAt: 2025-11-03 23:22:21 -0500 (Mon, 03 Nov 2025) EndedAt: 2025-11-03 23:22:59 -0500 (Mon, 03 Nov 2025) EllapsedTime: 37.8 seconds RetCode: 0 Status: OK CheckDir: PLPE.Rcheck Warnings: 0