Package: PLPE Version: 1.70.0 Command: /Library/Frameworks/R.framework/Resources/bin/R CMD build --keep-empty-dirs --no-resave-data PLPE StartedAt: 2025-11-03 18:15:44 -0500 (Mon, 03 Nov 2025) EndedAt: 2025-11-03 18:15:57 -0500 (Mon, 03 Nov 2025) EllapsedTime: 13.8 seconds RetCode: 0 Status: OK PackageFile: PLPE_1.70.0.tar.gz PackageFileSize: 262.7 KiB