Package: PLPE Version: 1.70.0 Command: rm -rf PLPE.buildbin-libdir && mkdir PLPE.buildbin-libdir && /Users/biocbuild/BBS/utils/build-universal.sh PLPE_1.70.0.tar.gz /Library/Frameworks/R.framework/Resources/bin/R PLPE.buildbin-libdir StartedAt: 2025-11-04 01:56:05 -0500 (Tue, 04 Nov 2025) EndedAt: 2025-11-04 01:56:13 -0500 (Tue, 04 Nov 2025) EllapsedTime: 8.0 seconds RetCode: 0 Status: OK PackageFile: PLPE_1.70.0.tgz PackageFileSize: 301.4 KiB