Package: PIPETS Version: 1.4.0 Command: /home/biocbuild/R/R/bin/R CMD check --install=check:PIPETS.install-out.txt --library=/home/biocbuild/R/R/site-library --no-vignettes --timings PIPETS_1.4.0.tar.gz StartedAt: 2025-09-30 13:00:40 -0000 (Tue, 30 Sep 2025) EndedAt: 2025-09-30 13:02:27 -0000 (Tue, 30 Sep 2025) EllapsedTime: 107.2 seconds RetCode: 0 Status: OK CheckDir: PIPETS.Rcheck Warnings: 0