Package: PCAtools Version: 2.21.0 Command: /home/biocbuild/R/R/bin/R CMD check --install=check:PCAtools.install-out.txt --library=/home/biocbuild/R/R/site-library --no-vignettes --timings PCAtools_2.21.0.tar.gz StartedAt: 2025-10-17 12:04:28 -0000 (Fri, 17 Oct 2025) EndedAt: 2025-10-17 12:09:23 -0000 (Fri, 17 Oct 2025) EllapsedTime: 295.4 seconds RetCode: 0 Status: OK CheckDir: PCAtools.Rcheck Warnings: 0