Package: PAST Version: 1.24.0 Command: rm -rf PAST.buildbin-libdir && mkdir PAST.buildbin-libdir && E:\biocbuild\bbs-3.21-bioc\R\bin\R.exe CMD INSTALL --build --library=PAST.buildbin-libdir PAST_1.24.0.tar.gz StartedAt: 2025-08-15 09:54:49 -0400 (Fri, 15 Aug 2025) EndedAt: 2025-08-15 09:55:25 -0400 (Fri, 15 Aug 2025) EllapsedTime: 36.4 seconds RetCode: 0 Status: OK PackageFile: PAST_1.24.0.zip PackageFileSize: 1013 KiB