Package: PAST Version: 1.24.0 Command: /home/biocbuild/R/R/bin/R CMD INSTALL PAST StartedAt: 2025-10-13 20:41:12 -0000 (Mon, 13 Oct 2025) EndedAt: 2025-10-13 20:41:59 -0000 (Mon, 13 Oct 2025) EllapsedTime: 46.9 seconds RetCode: 0 Status: OK