Package: PAIRADISE Version: 1.24.1 Command: E:\biocbuild\bbs-3.21-bioc\R\bin\R.exe CMD check --no-multiarch --install=check:PAIRADISE.install-out.txt --library=E:\biocbuild\bbs-3.21-bioc\R\library --no-vignettes --timings PAIRADISE_1.24.1.tar.gz StartedAt: 2025-08-15 05:10:17 -0400 (Fri, 15 Aug 2025) EndedAt: 2025-08-15 05:14:25 -0400 (Fri, 15 Aug 2025) EllapsedTime: 247.7 seconds RetCode: 0 Status: OK CheckDir: PAIRADISE.Rcheck Warnings: 0