Package: PAIRADISE Version: 1.24.0 Command: /Library/Frameworks/R.framework/Resources/bin/R CMD build --keep-empty-dirs --no-resave-data PAIRADISE StartedAt: 2025-04-21 17:51:08 -0400 (Mon, 21 Apr 2025) EndedAt: 2025-04-21 17:52:31 -0400 (Mon, 21 Apr 2025) EllapsedTime: 82.6 seconds RetCode: 0 Status: OK PackageFile: PAIRADISE_1.24.0.tar.gz PackageFileSize: 320.6 KiB