Package: PAA Version: 1.44.0 Command: /home/biocbuild/bbs-3.22-bioc/R/bin/R CMD check --install=check:PAA.install-out.txt --library=/home/biocbuild/bbs-3.22-bioc/R/site-library --timings PAA_1.44.0.tar.gz StartedAt: 2025-11-18 06:53:04 -0500 (Tue, 18 Nov 2025) EndedAt: 2025-11-18 07:00:23 -0500 (Tue, 18 Nov 2025) EllapsedTime: 438.7 seconds RetCode: 0 Status: OK CheckDir: PAA.Rcheck Warnings: 0