Package: PAA Version: 1.44.0 Command: /Library/Frameworks/R.framework/Resources/bin/R CMD INSTALL PAA StartedAt: 2025-10-30 15:32:00 -0400 (Thu, 30 Oct 2025) EndedAt: 2025-10-30 15:32:48 -0400 (Thu, 30 Oct 2025) EllapsedTime: 47.3 seconds RetCode: 0 Status: OK