Package: OrganismDbi Version: 1.50.0 Command: /home/biocbuild/bbs-3.21-bioc/R/bin/R CMD check --install=check:OrganismDbi.install-out.txt --library=/home/biocbuild/bbs-3.21-bioc/R/site-library --timings OrganismDbi_1.50.0.tar.gz StartedAt: 2025-10-16 01:54:28 -0400 (Thu, 16 Oct 2025) EndedAt: 2025-10-16 02:07:39 -0400 (Thu, 16 Oct 2025) EllapsedTime: 790.7 seconds RetCode: 0 Status: OK CheckDir: OrganismDbi.Rcheck Warnings: 0