Package: OrganismDbi Version: 1.50.0 Command: /Library/Frameworks/R.framework/Resources/bin/R CMD INSTALL OrganismDbi StartedAt: 2025-10-13 17:17:56 -0400 (Mon, 13 Oct 2025) EndedAt: 2025-10-13 17:18:43 -0400 (Mon, 13 Oct 2025) EllapsedTime: 47.0 seconds RetCode: 0 Status: OK