Package: OrganismDbi Version: 1.50.0 Command: /Library/Frameworks/R.framework/Resources/bin/R CMD check --install=check:OrganismDbi.install-out.txt --library=/Library/Frameworks/R.framework/Resources/library --no-vignettes --timings OrganismDbi_1.50.0.tar.gz StartedAt: 2025-10-15 06:37:40 -0400 (Wed, 15 Oct 2025) EndedAt: 2025-10-15 06:48:49 -0400 (Wed, 15 Oct 2025) EllapsedTime: 668.9 seconds RetCode: 0 Status: OK CheckDir: OrganismDbi.Rcheck Warnings: 0