Package: Organism.dplyr Version: 1.36.0 Command: E:\biocbuild\bbs-3.21-bioc\R\bin\R.exe CMD INSTALL Organism.dplyr StartedAt: 2025-08-14 16:46:23 -0400 (Thu, 14 Aug 2025) EndedAt: 2025-08-14 16:47:32 -0400 (Thu, 14 Aug 2025) EllapsedTime: 69.0 seconds RetCode: 0 Status: OK