Package: Organism.dplyr Version: 1.36.0 Command: chmod a+r Organism.dplyr -R && E:\biocbuild\bbs-3.21-bioc\R\bin\R.exe CMD build --keep-empty-dirs --no-resave-data Organism.dplyr StartedAt: 2025-08-14 21:01:07 -0400 (Thu, 14 Aug 2025) EndedAt: 2025-08-14 21:03:06 -0400 (Thu, 14 Aug 2025) EllapsedTime: 118.7 seconds RetCode: 0 Status: OK PackageFile: Organism.dplyr_1.36.0.tar.gz PackageFileSize: 513.6 KiB