Package: Organism.dplyr Version: 1.36.0 Command: rm -rf Organism.dplyr.buildbin-libdir && mkdir Organism.dplyr.buildbin-libdir && E:\biocbuild\bbs-3.21-bioc\R\bin\R.exe CMD INSTALL --build --library=Organism.dplyr.buildbin-libdir Organism.dplyr_1.36.0.tar.gz StartedAt: 2025-08-15 09:53:23 -0400 (Fri, 15 Aug 2025) EndedAt: 2025-08-15 09:56:34 -0400 (Fri, 15 Aug 2025) EllapsedTime: 190.6 seconds RetCode: 0 Status: OK PackageFile: Organism.dplyr_1.36.0.zip PackageFileSize: 877.7 KiB