Package: Organism.dplyr Version: 1.36.0 Command: /home/biocbuild/bbs-3.21-bioc/R/bin/R CMD INSTALL Organism.dplyr StartedAt: 2025-10-05 15:39:10 -0400 (Sun, 05 Oct 2025) EndedAt: 2025-10-05 15:39:49 -0400 (Sun, 05 Oct 2025) EllapsedTime: 38.8 seconds RetCode: 0 Status: OK