Package: Organism.dplyr Version: 1.36.0 Command: /home/biocbuild/bbs-3.21-bioc/R/bin/R CMD check --install=check:Organism.dplyr.install-out.txt --library=/home/biocbuild/bbs-3.21-bioc/R/site-library --timings Organism.dplyr_1.36.0.tar.gz StartedAt: 2025-10-06 01:51:20 -0400 (Mon, 06 Oct 2025) EndedAt: 2025-10-06 02:03:28 -0400 (Mon, 06 Oct 2025) EllapsedTime: 728.6 seconds RetCode: 0 Status: OK CheckDir: Organism.dplyr.Rcheck Warnings: 0