Package: Organism.dplyr Version: 1.36.0 Command: /home/biocbuild/bbs-3.21-bioc/R/bin/R CMD build --keep-empty-dirs --no-resave-data Organism.dplyr StartedAt: 2025-10-05 18:59:54 -0400 (Sun, 05 Oct 2025) EndedAt: 2025-10-05 19:01:16 -0400 (Sun, 05 Oct 2025) EllapsedTime: 82.1 seconds RetCode: 0 Status: OK PackageFile: Organism.dplyr_1.36.0.tar.gz PackageFileSize: 578.2 KiB