Package: Organism.dplyr Version: 1.36.0 Command: /Library/Frameworks/R.framework/Resources/bin/R CMD INSTALL Organism.dplyr StartedAt: 2025-10-02 16:08:38 -0400 (Thu, 02 Oct 2025) EndedAt: 2025-10-02 16:10:03 -0400 (Thu, 02 Oct 2025) EllapsedTime: 84.9 seconds RetCode: 0 Status: OK