Package: Organism.dplyr Version: 1.36.0 Command: /Library/Frameworks/R.framework/Resources/bin/R CMD build --keep-empty-dirs --no-resave-data Organism.dplyr StartedAt: 2025-10-02 21:18:42 -0400 (Thu, 02 Oct 2025) EndedAt: 2025-10-02 21:21:18 -0400 (Thu, 02 Oct 2025) EllapsedTime: 156.0 seconds RetCode: 0 Status: OK PackageFile: Organism.dplyr_1.36.0.tar.gz PackageFileSize: 527.4 KiB