Package: Organism.dplyr Version: 1.36.0 Command: rm -rf Organism.dplyr.buildbin-libdir && mkdir Organism.dplyr.buildbin-libdir && /Users/biocbuild/BBS/utils/build-universal.sh Organism.dplyr_1.36.0.tar.gz /Library/Frameworks/R.framework/Resources/bin/R Organism.dplyr.buildbin-libdir StartedAt: 2025-10-03 14:04:13 -0400 (Fri, 03 Oct 2025) EndedAt: 2025-10-03 14:06:30 -0400 (Fri, 03 Oct 2025) EllapsedTime: 137.0 seconds RetCode: 0 Status: OK PackageFile: Organism.dplyr_1.36.0.tgz PackageFileSize: 892.5 KiB