Package: Organism.dplyr Version: 1.36.0 Command: /home/biocbuild/R/R/bin/R CMD INSTALL Organism.dplyr StartedAt: 2025-10-02 20:53:43 -0000 (Thu, 02 Oct 2025) EndedAt: 2025-10-02 20:54:36 -0000 (Thu, 02 Oct 2025) EllapsedTime: 53.9 seconds RetCode: 0 Status: OK