Package: OrderedList Version: 1.80.0 Command: E:\biocbuild\bbs-3.21-bioc\R\bin\R.exe CMD check --no-multiarch --install=check:OrderedList.install-out.txt --library=E:\biocbuild\bbs-3.21-bioc\R\library --no-vignettes --timings OrderedList_1.80.0.tar.gz StartedAt: 2025-08-15 05:04:42 -0400 (Fri, 15 Aug 2025) EndedAt: 2025-08-15 05:05:27 -0400 (Fri, 15 Aug 2025) EllapsedTime: 45.0 seconds RetCode: 0 Status: OK CheckDir: OrderedList.Rcheck Warnings: 0