Package: OrderedList Version: 1.80.0 Command: /home/biocbuild/bbs-3.21-bioc/R/bin/R CMD INSTALL OrderedList StartedAt: 2025-10-08 15:12:43 -0400 (Wed, 08 Oct 2025) EndedAt: 2025-10-08 15:12:47 -0400 (Wed, 08 Oct 2025) EllapsedTime: 4.2 seconds RetCode: 0 Status: OK