Package: OrderedList Version: 1.80.0 Command: /Library/Frameworks/R.framework/Resources/bin/R CMD check --install=check:OrderedList.install-out.txt --library=/Library/Frameworks/R.framework/Resources/library --no-vignettes --timings OrderedList_1.80.0.tar.gz StartedAt: 2025-04-21 22:25:32 -0400 (Mon, 21 Apr 2025) EndedAt: 2025-04-21 22:26:12 -0400 (Mon, 21 Apr 2025) EllapsedTime: 40.1 seconds RetCode: 0 Status: OK CheckDir: OrderedList.Rcheck Warnings: 0