Package: OrderedList Version: 1.80.0 Command: rm -rf OrderedList.buildbin-libdir && mkdir OrderedList.buildbin-libdir && /Users/biocbuild/BBS/utils/build-universal.sh OrderedList_1.80.0.tar.gz /Library/Frameworks/R.framework/Resources/bin/R OrderedList.buildbin-libdir StartedAt: 2025-04-21 22:45:29 -0400 (Mon, 21 Apr 2025) EndedAt: 2025-04-21 22:45:31 -0400 (Mon, 21 Apr 2025) EllapsedTime: 2.0 seconds RetCode: 0 Status: OK PackageFile: OrderedList_1.80.0.tgz PackageFileSize: 1.111 MiB