Package: OmnipathR Version: 3.18.2 Command: /home/biocbuild/R/R/bin/R CMD INSTALL OmnipathR StartedAt: 2025-11-20 21:54:59 -0000 (Thu, 20 Nov 2025) EndedAt: 2025-11-20 21:55:42 -0000 (Thu, 20 Nov 2025) EllapsedTime: 43.1 seconds RetCode: 0 Status: OK