############################################################################## ############################################################################## ### ### Running command: ### ### /home/biocbuild/R/R/bin/R CMD check --install=check:OmnipathR.install-out.txt --library=/home/biocbuild/R/R/site-library --no-vignettes --timings OmnipathR_3.18.2.tar.gz ### ############################################################################## ############################################################################## * using log directory ‘/home/biocbuild/bbs-3.22-bioc/meat/OmnipathR.Rcheck’ * using R version 4.5.0 (2025-04-11) * using platform: aarch64-unknown-linux-gnu * R was compiled by aarch64-unknown-linux-gnu-gcc (GCC) 14.2.0 GNU Fortran (GCC) 14.2.0 * running under: openEuler 24.03 (LTS) * using session charset: UTF-8 * using option ‘--no-vignettes’ * checking for file ‘OmnipathR/DESCRIPTION’ ... OK * checking extension type ... Package * this is package ‘OmnipathR’ version ‘3.18.2’ * package encoding: UTF-8 * checking package namespace information ... OK * checking package dependencies ... INFO Imports includes 35 non-default packages. Importing from so many packages makes the package vulnerable to any of them becoming unavailable. Move as many as possible to Suggests and use conditionally. * checking if this is a source package ... OK * checking if there is a namespace ... OK * checking for hidden files and directories ... OK * checking for portable file names ... OK * checking for sufficient/correct file permissions ... OK * checking whether package ‘OmnipathR’ can be installed ... OK * checking installed package size ... OK * checking package directory ... OK * checking DESCRIPTION meta-information ... OK * checking top-level files ... OK * checking for left-over files ... OK * checking index information ... OK * checking package subdirectories ... OK * checking code files for non-ASCII characters ... OK * checking R files for syntax errors ... OK * checking whether the package can be loaded ... OK * checking whether the package can be loaded with stated dependencies ... OK * checking whether the package can be unloaded cleanly ... OK * checking whether the namespace can be loaded with stated dependencies ... OK * checking whether the namespace can be unloaded cleanly ... OK * checking loading without being on the library search path ... OK * checking whether startup messages can be suppressed ... NOTE [2025-11-21 13:51:06] [TRACE] [OmnipathR] Reading JSON from `/home/biocbuild/.cache/OmnipathR/cache.json` (encoding: UTF-8). [2025-11-21 13:51:06] [TRACE] [OmnipathR] JSON validation successful: TRUE [2025-11-21 13:51:06] [INFO] [OmnipathR] Initialized cache: `/home/biocbuild/.cache/OmnipathR`. [2025-11-21 13:51:06] [INFO] [OmnipathR] Package `OmnipathR` packaged: NA [2025-11-21 13:51:06] [INFO] [OmnipathR] Package `OmnipathR` date/publication: 2025-11-20 [2025-11-21 13:51:06] [INFO] [OmnipathR] Package `OmnipathR` built: R 4.5.0; ; 2025-11-20 21:55:00 UTC; unix [2025-11-21 13:51:06] [INFO] [OmnipathR] Package `OmnipathR` version: 3.18.2 [2025-11-21 13:51:06] [INFO] [OmnipathR] Package `OmnipathR` repository: Bioconductor 3.22 [2025-11-21 13:51:07] [INFO] [OmnipathR] Session info: [version=R version 4.5.0 (2025-04-11); os=openEuler 24.03 (LTS); system=aarch64, linux-gnu; ui=X11; language=(EN); collate=C; ctype=en_US.UTF-8; tz=UTC; date=2025-11-21; pandoc=2.12 @ /home/biocbuild/bin/ (via rmarkdown); quarto=1.7.32 @ /home/biocbuild/bioconductor/quarto-1.7.32/bin/quarto] [2025-11-21 13:51:07] [INFO] [OmnipathR] External libraries: [cairo=1.18.0; cairoFT=; pango=1.51.0; png=1.6.47; jpeg=6.2; tiff=LIBTIFF, Version 4.7.0; tcl=8.6.14; curl=8.13.0; zlib=1.3.1; bzlib=1.0.8, 13-Jul-2019; xz=5.8.1; deflate=; PCRE=10.44 2024-06-07; ICU=74.1; TRE=TRE 0.8.0 R_fixes (BSD); iconv=glibc 2.38; readline=8.2; BLAS=/usr/lib64/libopenblas-r0.3.25.so; lapack=/usr/lib64/libopenblas-r0.3.25.so; lapack_version=3.11.0] [2025-11-21 13:51:07] [INFO] [OmnipathR] Loaded packages: backports 1.5.0(2024-05-23); bit 4.6.0(2025-03-06); bit64 4.6.0-1(2025-01-16); blob 1.2.4(2023-03-17); cachem 1.1.0(2024-05-16); cellranger 1.1.0(2016-07-27); checkmate 2.3.3(2025-08-18); chromote 0.5.1(2025-04-24); cli 3.6.5(2025-04-23); crayon 1.5.3(2024-06-20); curl 7.0.0(2025-08-19); DBI 1.2.3(2024-06-02); digest 0.6.37(2024-08-19); dplyr 1.1.4(2023-11-17); evaluate 1.0.5(2025-08-27); fastmap 1.2.0(2024-05-15); fs 1.6.6(2025-04-12); generics 0.1.4(2025-05-09); glue 1.8.0(2024-09-30); hms 1.1.4(2025-10-17); htmltools 0.5.8.1(2024-04-04); httr 1.4.7(2023-08-15); httr2 1.2.1(2025-07-22); igraph 2.2.1(2025-10-27); jsonlite 2.0.0(2025-03-27); knitr 1.50(2025-03-16); later 1.4.4(2025-08-27); lifecycle 1.0.4(2023-11-07); logger 0.4.1(2025-09-11); lubridate 1.9.4(2024-12-08); magrittr 2.0.4(2025-09-12); memoise 2.0.1(2021-11-26); OmnipathR 3.18.2(2025-11-20); otel 0.2.0(2025-08-29); pillar 1.11.1(2025-09-17); pkgconfig 2.0.3(2019-09-22); prettyunits 1.2.0(2023-09-24); processx 3.8.6(2025-02-21); progress 1.2.3(2023-12-06); promises 1.5.0(2025-11-01); ps 1.9.1(2025-04-12); purrr 1.1.0(2025-07-10); R.methodsS3 1.8.2(2022-06-13); R.oo 1.27.1(2025-05-02); R.utils 2.13.0(2025-02-24); R6 2.6.1(2025-02-15); rappdirs 0.3.3(2021-01-31); Rcpp 1.1.0(2025-07-02); readr 2.1.5(2024-01-10); readxl 1.4.5(2025-03-07); rlang 1.1.6(2025-04-11); rmarkdown 2.30(2025-09-28); RSQLite 2.4.3(2025-08-20); rvest 1.0.5(2025-08-29); sessioninfo 1.2.3(2025-02-05); stringi 1.8.7(2025-03-27); stringr 1.5.2(2025-09-08); tibble 3.3.0(2025-06-08); tidyr 1.3.1(2024-01-24); tidyselect 1.2.1(2024-03-11); timechange 0.3.0(2024-01-18); tzdb 0.5.0(2025-03-15); vctrs 0.6.5(2023-12-01); websocket 1.4.4(2025-04-10); withr 3.0.2(2024-10-28); xfun 0.54(2025-10-30); XML 3.99-0.19(2025-08-22); xml2 1.4.1(2025-10-27); yaml 2.3.10(2024-07-26); zip 2.3.3(2025-05-13) [2025-11-21 13:51:07] [INFO] [OmnipathR] CURL: version: 8.13.0; headers: 8.13.0; ssl_version: OpenSSL/3.5.0; libz_version: 1.3.1; libssh_version: libssh2/1.11.1; libidn_version: NA; host: aarch64-conda-linux-gnu; protocols: dict, file, ftp, ftps, gopher, gophers, http, https, imap, imaps, mqtt, pop3, pop3s, rtsp, scp, sftp, smb, smbs, smtp, smtps, telnet, tftp, ws, wss; ipv6: TRUE; http2: TRUE; idn: FALSE; url_parser: TRUE [2025-11-21 13:51:07] [TRACE] [OmnipathR] Running on a build server, wiping cache. [2025-11-21 13:51:07] [TRACE] [OmnipathR] Cache is at `/home/biocbuild/.cache/OmnipathR`. [2025-11-21 13:51:07] [TRACE] [OmnipathR] Contains 1 files. [2025-11-21 13:51:07] [TRACE] [OmnipathR] Cache is locked: FALSE. [2025-11-21 13:51:07] [TRACE] [OmnipathR] Reading JSON from `/home/biocbuild/.cache/OmnipathR/cache.json` (encoding: UTF-8). [2025-11-21 13:51:07] [TRACE] [OmnipathR] JSON validation successful: TRUE [2025-11-21 13:51:07] [SUCCESS] [OmnipathR] Removing all cache contents from `/home/biocbuild/.cache/OmnipathR`. [2025-11-21 13:51:07] [TRACE] [OmnipathR] Pandoc version: `2.12`. [2025-11-21 13:51:07] [TRACE] [OmnipathR] Reading JSON from `/home/biocbuild/R/R-4.5.0/site-library/OmnipathR/db/db_def.json` (encoding: UTF-8). [2025-11-21 13:51:07] [TRACE] [OmnipathR] JSON validation successful: TRUE [2025-11-21 13:51:07] [TRACE] [OmnipathR] Reading JSON from `/home/biocbuild/R/R-4.5.0/site-library/OmnipathR/internal/magic_bytes.json` (encoding: UTF-8). [2025-11-21 13:51:07] [TRACE] [OmnipathR] JSON validation successful: TRUE [2025-11-21 13:51:07] [TRACE] [OmnipathR] Reading JSON from `/home/biocbuild/R/R-4.5.0/site-library/OmnipathR/internal/urls.json` (encoding: UTF-8). [2025-11-21 13:51:07] [TRACE] [OmnipathR] JSON validation successful: TRUE [2025-11-21 13:51:07] [TRACE] [OmnipathR] Reading JSON from `/home/biocbuild/R/R-4.5.0/site-library/OmnipathR/internal/id_types.json` (encoding: UTF-8). [2025-11-21 13:51:07] [TRACE] [OmnipathR] JSON validation successful: TRUE [2025-11-21 13:51:07] [TRACE] [OmnipathR] Cache locked: FALSE It looks like this package (or a package it requires) has a startup message which cannot be suppressed: see ?packageStartupMessage. * checking dependencies in R code ... OK * checking S3 generic/method consistency ... OK * checking replacement functions ... OK * checking foreign function calls ... OK * checking R code for possible problems ... NOTE [2025-11-21 13:51:35] [TRACE] [OmnipathR] Reading JSON from `/home/biocbuild/.cache/OmnipathR/cache.json` (encoding: UTF-8). [2025-11-21 13:51:35] [TRACE] [OmnipathR] JSON validation successful: TRUE [2025-11-21 13:51:35] [INFO] [OmnipathR] Initialized cache: `/home/biocbuild/.cache/OmnipathR`. [2025-11-21 13:51:35] [INFO] [OmnipathR] Package `OmnipathR` packaged: NA [2025-11-21 13:51:35] [INFO] [OmnipathR] Package `OmnipathR` date/publication: 2025-11-20 [2025-11-21 13:51:35] [INFO] [OmnipathR] Package `OmnipathR` built: R 4.5.0; ; 2025-11-20 21:55:00 UTC; unix [2025-11-21 13:51:35] [INFO] [OmnipathR] Package `OmnipathR` version: 3.18.2 [2025-11-21 13:51:35] [INFO] [OmnipathR] Package `OmnipathR` repository: Bioconductor 3.22 [2025-11-21 13:51:35] [INFO] [OmnipathR] Session info: [version=R version 4.5.0 (2025-04-11); os=openEuler 24.03 (LTS); system=aarch64, linux-gnu; ui=X11; language=(EN); collate=C; ctype=en_US.UTF-8; tz=UTC; date=2025-11-21; pandoc=2.12 @ /home/biocbuild/bin/ (via rmarkdown); quarto=1.7.32 @ /home/biocbuild/bioconductor/quarto-1.7.32/bin/quarto] [2025-11-21 13:51:36] [INFO] [OmnipathR] External libraries: [cairo=1.18.0; cairoFT=; pango=1.51.0; png=1.6.47; jpeg=6.2; tiff=LIBTIFF, Version 4.7.0; tcl=8.6.14; curl=8.13.0; zlib=1.3.1; bzlib=1.0.8, 13-Jul-2019; xz=5.8.1; deflate=; PCRE=10.44 2024-06-07; ICU=74.1; TRE=TRE 0.8.0 R_fixes (BSD); iconv=glibc 2.38; readline=8.2; BLAS=/usr/lib64/libopenblas-r0.3.25.so; lapack=/usr/lib64/libopenblas-r0.3.25.so; lapack_version=3.11.0] [2025-11-21 13:51:36] [INFO] [OmnipathR] Loaded packages: backports 1.5.0(2024-05-23); bit 4.6.0(2025-03-06); bit64 4.6.0-1(2025-01-16); blob 1.2.4(2023-03-17); cachem 1.1.0(2024-05-16); cellranger 1.1.0(2016-07-27); checkmate 2.3.3(2025-08-18); chromote 0.5.1(2025-04-24); cli 3.6.5(2025-04-23); crayon 1.5.3(2024-06-20); curl 7.0.0(2025-08-19); DBI 1.2.3(2024-06-02); digest 0.6.37(2024-08-19); dplyr 1.1.4(2023-11-17); evaluate 1.0.5(2025-08-27); fastmap 1.2.0(2024-05-15); fs 1.6.6(2025-04-12); generics 0.1.4(2025-05-09); glue 1.8.0(2024-09-30); hms 1.1.4(2025-10-17); htmltools 0.5.8.1(2024-04-04); httr 1.4.7(2023-08-15); httr2 1.2.1(2025-07-22); igraph 2.2.1(2025-10-27); jsonlite 2.0.0(2025-03-27); knitr 1.50(2025-03-16); later 1.4.4(2025-08-27); lifecycle 1.0.4(2023-11-07); logger 0.4.1(2025-09-11); lubridate 1.9.4(2024-12-08); magrittr 2.0.4(2025-09-12); memoise 2.0.1(2021-11-26); OmnipathR 3.18.2(2025-11-20); otel 0.2.0(2025-08-29); pillar 1.11.1(2025-09-17); pkgconfig 2.0.3(2019-09-22); prettyunits 1.2.0(2023-09-24); processx 3.8.6(2025-02-21); progress 1.2.3(2023-12-06); promises 1.5.0(2025-11-01); ps 1.9.1(2025-04-12); purrr 1.1.0(2025-07-10); R.methodsS3 1.8.2(2022-06-13); R.oo 1.27.1(2025-05-02); R.utils 2.13.0(2025-02-24); R6 2.6.1(2025-02-15); rappdirs 0.3.3(2021-01-31); Rcpp 1.1.0(2025-07-02); readr 2.1.5(2024-01-10); readxl 1.4.5(2025-03-07); rlang 1.1.6(2025-04-11); rmarkdown 2.30(2025-09-28); RSQLite 2.4.3(2025-08-20); rvest 1.0.5(2025-08-29); sessioninfo 1.2.3(2025-02-05); stringi 1.8.7(2025-03-27); stringr 1.5.2(2025-09-08); tibble 3.3.0(2025-06-08); tidyr 1.3.1(2024-01-24); tidyselect 1.2.1(2024-03-11); timechange 0.3.0(2024-01-18); tzdb 0.5.0(2025-03-15); vctrs 0.6.5(2023-12-01); websocket 1.4.4(2025-04-10); withr 3.0.2(2024-10-28); xfun 0.54(2025-10-30); XML 3.99-0.19(2025-08-22); xml2 1.4.1(2025-10-27); yaml 2.3.10(2024-07-26); zip 2.3.3(2025-05-13) [2025-11-21 13:51:36] [INFO] [OmnipathR] CURL: version: 8.13.0; headers: 8.13.0; ssl_version: OpenSSL/3.5.0; libz_version: 1.3.1; libssh_version: libssh2/1.11.1; libidn_version: NA; host: aarch64-conda-linux-gnu; protocols: dict, file, ftp, ftps, gopher, gophers, http, https, imap, imaps, mqtt, pop3, pop3s, rtsp, scp, sftp, smb, smbs, smtp, smtps, telnet, tftp, ws, wss; ipv6: TRUE; http2: TRUE; idn: FALSE; url_parser: TRUE [2025-11-21 13:51:36] [TRACE] [OmnipathR] Running on a build server, wiping cache. [2025-11-21 13:51:36] [TRACE] [OmnipathR] Cache is at `/home/biocbuild/.cache/OmnipathR`. [2025-11-21 13:51:36] [TRACE] [OmnipathR] Contains 1 files. [2025-11-21 13:51:36] [TRACE] [OmnipathR] Cache is locked: FALSE. [2025-11-21 13:51:36] [TRACE] [OmnipathR] Reading JSON from `/home/biocbuild/.cache/OmnipathR/cache.json` (encoding: UTF-8). [2025-11-21 13:51:36] [TRACE] [OmnipathR] JSON validation successful: TRUE [2025-11-21 13:51:36] [SUCCESS] [OmnipathR] Removing all cache contents from `/home/biocbuild/.cache/OmnipathR`. [2025-11-21 13:51:36] [TRACE] [OmnipathR] Pandoc version: `2.12`. [2025-11-21 13:51:36] [TRACE] [OmnipathR] Reading JSON from `/home/biocbuild/R/R-4.5.0/site-library/OmnipathR/db/db_def.json` (encoding: UTF-8). [2025-11-21 13:51:36] [TRACE] [OmnipathR] JSON validation successful: TRUE [2025-11-21 13:51:36] [TRACE] [OmnipathR] Reading JSON from `/home/biocbuild/R/R-4.5.0/site-library/OmnipathR/internal/magic_bytes.json` (encoding: UTF-8). [2025-11-21 13:51:36] [TRACE] [OmnipathR] JSON validation successful: TRUE [2025-11-21 13:51:36] [TRACE] [OmnipathR] Reading JSON from `/home/biocbuild/R/R-4.5.0/site-library/OmnipathR/internal/urls.json` (encoding: UTF-8). [2025-11-21 13:51:36] [TRACE] [OmnipathR] JSON validation successful: TRUE [2025-11-21 13:51:36] [TRACE] [OmnipathR] Reading JSON from `/home/biocbuild/R/R-4.5.0/site-library/OmnipathR/internal/id_types.json` (encoding: UTF-8). [2025-11-21 13:51:36] [TRACE] [OmnipathR] JSON validation successful: TRUE [2025-11-21 13:51:36] [TRACE] [OmnipathR] Cache locked: FALSE cosmos_ksn: no visible binding for global variable ‘enzyme_genesymbol’ Undefined global functions or variables: enzyme_genesymbol * checking Rd files ... OK * checking Rd metadata ... OK * checking Rd cross-references ... OK * checking for missing documentation entries ... OK * checking for code/documentation mismatches ... OK * checking Rd \usage sections ... OK * checking Rd contents ... OK * checking for unstated dependencies in examples ... OK * checking R/sysdata.rda ... OK * checking files in ‘vignettes’ ... OK * checking examples ... OK Examples with CPU (user + system) or elapsed time > 5s user system elapsed annotation_categories 106.889 0.018 120.816 curated_ligrec_stats 44.274 4.914 189.452 filter_extra_attrs 37.624 5.547 52.858 omnipath-interactions 35.814 2.385 78.573 all_uniprots 32.269 2.590 96.522 uniprot_organisms 26.047 2.031 49.460 extra_attrs_to_cols 21.424 1.472 38.324 extra_attr_values 18.803 1.649 45.046 nichenet_gr_network_omnipath 19.312 0.932 25.716 with_extra_attrs 15.849 1.583 19.299 nichenet_signaling_network_omnipath 14.378 0.799 19.121 go_annot_download 13.527 0.511 26.532 giant_component 12.528 0.567 19.754 omnipath_for_cosmos 11.903 0.753 31.667 extra_attrs 11.280 1.299 20.352 filter_by_resource 11.629 0.561 20.284 has_extra_attrs 9.783 1.293 11.096 translate_ids_multi 10.072 0.495 27.138 pivot_annotations 9.674 0.405 29.520 curated_ligand_receptor_interactions 7.787 0.812 26.093 find_all_paths 7.702 0.446 13.753 print_interactions 7.392 0.354 14.478 filter_intercell 6.653 0.198 19.015 signed_ptms 6.376 0.323 7.803 pubmed_open 5.295 0.664 5.975 static_table 5.713 0.225 11.544 resources_in 4.704 0.328 5.047 hpo_download 3.042 0.539 22.638 print_path_vs 2.850 0.191 6.594 enzsub_graph 2.692 0.195 6.664 ensembl_id_mapping_table 2.677 0.143 20.691 database_summary 1.927 0.203 19.765 annotated_network 1.442 0.126 6.495 metalinksdb_sqlite 1.243 0.171 14.395 translate_ids 1.159 0.058 11.625 uniprot_full_id_mapping_table 1.025 0.055 13.510 * checking for unstated dependencies in ‘tests’ ... OK * checking tests ... Running ‘testthat.R’ OK * checking for unstated dependencies in vignettes ... OK * checking package vignettes ... OK * checking running R code from vignettes ... SKIPPED * checking re-building of vignette outputs ... SKIPPED * checking PDF version of manual ... OK * DONE Status: 2 NOTEs See ‘/home/biocbuild/bbs-3.22-bioc/meat/OmnipathR.Rcheck/00check.log’ for details.