Package: OmnipathR Version: 3.18.2 Command: /home/biocbuild/bbs-3.22-bioc/R/bin/R CMD INSTALL OmnipathR StartedAt: 2025-11-17 17:04:20 -0500 (Mon, 17 Nov 2025) EndedAt: 2025-11-17 17:04:38 -0500 (Mon, 17 Nov 2025) EllapsedTime: 18.2 seconds RetCode: 0 Status: OK