Package: OmnipathR Version: 3.18.2 Command: /home/biocbuild/bbs-3.22-bioc/R/bin/R CMD check --install=check:OmnipathR.install-out.txt --library=/home/biocbuild/bbs-3.22-bioc/R/site-library --timings OmnipathR_3.18.2.tar.gz StartedAt: 2025-11-18 06:46:02 -0500 (Tue, 18 Nov 2025) EndedAt: 2025-11-18 07:17:55 -0500 (Tue, 18 Nov 2025) EllapsedTime: 1913.4 seconds RetCode: 1 Status: ERROR CheckDir: OmnipathR.Rcheck Warnings: NA