Package: OmnipathR Version: 3.18.2 Command: /home/biocbuild/bbs-3.22-bioc/R/bin/R CMD build --keep-empty-dirs --no-resave-data --md5 OmnipathR StartedAt: 2025-11-17 22:30:54 -0500 (Mon, 17 Nov 2025) EndedAt: 2025-11-17 22:46:01 -0500 (Mon, 17 Nov 2025) EllapsedTime: 907.0 seconds RetCode: 0 Status: OK PackageFile: OmnipathR_3.18.2.tar.gz PackageFileSize: 3.534 MiB