Package: Omixer Version: 1.18.0 Command: chmod a+r Omixer -R && E:\biocbuild\bbs-3.21-bioc\R\bin\R.exe CMD build --keep-empty-dirs --no-resave-data Omixer StartedAt: 2025-08-14 20:56:42 -0400 (Thu, 14 Aug 2025) EndedAt: 2025-08-14 20:58:34 -0400 (Thu, 14 Aug 2025) EllapsedTime: 112.2 seconds RetCode: 0 Status: OK PackageFile: Omixer_1.18.0.tar.gz PackageFileSize: 1.277 MiB