Package: Omixer Version: 1.18.0 Command: rm -rf Omixer.buildbin-libdir && mkdir Omixer.buildbin-libdir && E:\biocbuild\bbs-3.21-bioc\R\bin\R.exe CMD INSTALL --build --library=Omixer.buildbin-libdir Omixer_1.18.0.tar.gz StartedAt: 2025-08-15 09:52:21 -0400 (Fri, 15 Aug 2025) EndedAt: 2025-08-15 09:52:34 -0400 (Fri, 15 Aug 2025) EllapsedTime: 13.0 seconds RetCode: 0 Status: OK PackageFile: Omixer_1.18.0.zip PackageFileSize: 950.1 KiB