Package: Omixer Version: 1.18.0 Command: /Library/Frameworks/R.framework/Resources/bin/R CMD check --install=check:Omixer.install-out.txt --library=/Library/Frameworks/R.framework/Resources/library --no-vignettes --timings Omixer_1.18.0.tar.gz StartedAt: 2025-04-21 22:23:26 -0400 (Mon, 21 Apr 2025) EndedAt: 2025-04-21 22:24:14 -0400 (Mon, 21 Apr 2025) EllapsedTime: 48.2 seconds RetCode: 0 Status: OK CheckDir: Omixer.Rcheck Warnings: 0