Package: Omixer Version: 1.18.0 Command: rm -rf Omixer.buildbin-libdir && mkdir Omixer.buildbin-libdir && /Users/biocbuild/BBS/utils/build-universal.sh Omixer_1.18.0.tar.gz /Library/Frameworks/R.framework/Resources/bin/R Omixer.buildbin-libdir StartedAt: 2025-04-21 22:45:18 -0400 (Mon, 21 Apr 2025) EndedAt: 2025-04-21 22:45:21 -0400 (Mon, 21 Apr 2025) EllapsedTime: 3.1 seconds RetCode: 0 Status: OK PackageFile: Omixer_1.18.0.tgz PackageFileSize: 1.058 MiB