Package: Omixer Version: 1.18.0 Command: rm -rf Omixer.buildbin-libdir && mkdir Omixer.buildbin-libdir && /Users/biocbuild/BBS/utils/build-universal.sh Omixer_1.18.0.tar.gz /Library/Frameworks/R.framework/Resources/bin/R Omixer.buildbin-libdir StartedAt: 2025-10-15 19:40:21 -0400 (Wed, 15 Oct 2025) EndedAt: 2025-10-15 19:40:29 -0400 (Wed, 15 Oct 2025) EllapsedTime: 7.9 seconds RetCode: 0 Status: OK PackageFile: Omixer_1.18.0.tgz PackageFileSize: 1.059 MiB